BEGIN:VCALENDAR
VERSION:2.0
PRODID:-//Młoda Fotografia 2026 - ECPv6.7.0//NONSGML v1.0//EN
CALSCALE:GREGORIAN
METHOD:PUBLISH
X-WR-CALNAME:Młoda Fotografia 2026
X-ORIGINAL-URL:https://mlodafotografia.pl
X-WR-CALDESC:Events for Młoda Fotografia 2026
REFRESH-INTERVAL;VALUE=DURATION:PT1H
X-Robots-Tag:noindex
X-PUBLISHED-TTL:PT1H
BEGIN:VTIMEZONE
TZID:Europe/Warsaw
BEGIN:DAYLIGHT
TZOFFSETFROM:+0100
TZOFFSETTO:+0200
TZNAME:CEST
DTSTART:20260329T010000
END:DAYLIGHT
BEGIN:STANDARD
TZOFFSETFROM:+0200
TZOFFSETTO:+0100
TZNAME:CET
DTSTART:20261025T010000
END:STANDARD
END:VTIMEZONE
BEGIN:VEVENT
DTSTART;TZID=Europe/Warsaw:20260210T160000
DTEND;TZID=Europe/Warsaw:20260210T190000
DTSTAMP:20260422T134451
CREATED:20251110T150053Z
LAST-MODIFIED:20260209T114422Z
UID:4750-1770739200-1770750000@mlodafotografia.pl
SUMMARY:Siła stabilności: praca ze statywami
DESCRIPTION:Uczestnicy poznają różne rodzaje statywów do aparatów i oświetlenia. Zajęcia skupią się na tym\, jak stabilne ustawienie sprzętu wpływa na ostrość\, powtarzalność ujęć i wygodę pracy na planie. Uczestnicy dowiedzą się również\, jak statywy oświetleniowe pozwalają precyzyjnie kierować światłem\, kontrolować jego wysokość\, kąt padania i odległość od obiektu. W programie znajdzie się także praca z boomem\, który otwiera możliwość tworzenia nietypowych\, bardziej kreatywnych koncepcji oświetleniowych — na przykład ustawienia źródła światła bezpośrednio nad sceną. Boom przyda się również do fotografowania z góry i to nie tylko do aranżacji typu „flat lay”. Warsztaty pozwolą w pełni zrozumieć techniczne podstawy świadomego budowania kadru. \nLiczba miejsc ograniczona. Formularz zapisów: https://forms.gle/DQVKkaNKy6qhjU848
URL:https://mlodafotografia.pl/wydarzenie/sila-stabilnosci-praca-ze-statywami-krzysiek-marciniec/
LOCATION:Centrum na Przedmieściu\, ul. Prądzyńskiego 39A\, Wrocław\, Poland
CATEGORIES:Dzień 2: wtorek
ATTACH;FMTTYPE=image/jpeg:https://mlodafotografia.pl/wp-content/uploads/sites/11/2026/02/0fc2088d-4bb2-436a-a8c6-48cb6fa933ac.jpeg
ORGANIZER;CN="Wroc%C5%82awska Lo%C5%BCa Fotograficzna":MAILTO:wroclawskalozafoto@gmail.com
END:VEVENT
BEGIN:VEVENT
DTSTART;TZID=Europe/Warsaw:20260210T163000
DTEND;TZID=Europe/Warsaw:20260210T183000
DTSTAMP:20260422T134451
CREATED:20251110T153019Z
LAST-MODIFIED:20251212T184133Z
UID:4582-1770741000-1770748200@mlodafotografia.pl
SUMMARY:Przyjazne konsultacje fotograficzne
DESCRIPTION:Przez cały tydzień\, codziennie od 16.30 do 18.30 (z wyjątkiem czwartku\, kiedy spotkanie jest od 16.00 do 18.00) zapraszamy na przyjazne konsultacje fotograficzne\, kiedyś nazywane przeglądem portfolio. Nie trzeba mieć „portfolio” żeby wziąć udział! Jeśli robisz zdjęcia i brakuje Ci feedbacku\, przyjdź do Centrum na Przedmieściu podczas festiwalowego tygodnia i pokaż nam swoje zdjęcia – przynieś wydruki\, najlepiej podzielone na cykle lub pliki na laptopie (nie przynoś na telefonie!). Codziennie inni fotografowie z dużym doświadczeniem będą udzielać porad\, pomagać w wyborze kierunku i podpowiadać rozwiązania. \nWe wtorek: pomagać będą wam Anna Surmińska i Radosław Mielecki. Nie ma zapisów\, po prostu przyjdź ze zdjęciami. Możesz przyjść kilka razy do różnych osób! \nAnna Surmińska — fotografka i autorka projektów multimedialnych. Pracuje na styku obrazu\, emocji i pamięci\, badając to\, co kruche\, niewysłowione i ukryte pod powierzchnią spojrzenia. Jej fotografia nie dokumentuje\, lecz odsłania — staje się przestrzenią dialogu z tym\, co ulotne.\nW swojej praktyce twórczej szczególne miejsce zajmuje portret\, traktowany nie jako zapis fizyczności\, lecz jako dostęp do wewnętrznego trwania człowieka. Buduje go poprzez światło\, milczenie i subtelność gestu. Tworzy również projekty multimedialne\, łącząc obraz z dźwiękiem i czasem. Jej prace prezentowano m.in. we Wrocławiu\, Warszawie\, Słupsku\, Szczecinku\, Lubinie i Obornikach Śląskich. W 2024 roku otrzymała wyróżnienie w Międzynarodowym Konkursie Fotograficznym „Portret Prawdziwy”. \nRadosław Mielecki – specjalizuje się w czarno-białej fotografii portretowej. W mojej pracy czerpie inspirację przede wszystkim z twórczości Irvinga Penna\, ale także z dorobku innych klasyków fotografii czarno białej\, których wrażliwość i sposób patrzenia na świat kształtują mój własny styl. Wierze\, że tylko fotografia potrafi naprawdę zatrzymać czas\, uchwycić ulotne emocje\, gesty i spojrzenia\, które w innym przypadku mogłyby zostać zapomniane. Moje fotografie są próbą dialogu między światłem\, cieniem i ludzką historią.
URL:https://mlodafotografia.pl/wydarzenie/przyjazne-konsultacje-fotograficzne-2/
LOCATION:Centrum na Przedmieściu\, ul. Prądzyńskiego 39A\, Wrocław\, Poland
CATEGORIES:Dzień 2: wtorek
ATTACH;FMTTYPE=image/jpeg:https://mlodafotografia.pl/wp-content/uploads/sites/11/2025/12/afc044e6-b2eb-4d54-9a04-83a41b747f7c.jpeg
ORGANIZER;CN="Wroc%C5%82awska Lo%C5%BCa Fotograficzna":MAILTO:wroclawskalozafoto@gmail.com
END:VEVENT
BEGIN:VEVENT
DTSTART;TZID=Europe/Warsaw:20260210T170000
DTEND;TZID=Europe/Warsaw:20260210T190000
DTSTAMP:20260422T134451
CREATED:20260119T171359Z
LAST-MODIFIED:20260119T172041Z
UID:5122-1770742800-1770750000@mlodafotografia.pl
SUMMARY:Wystawa zdjęć Rafała Skwarka „Memory Unit”
DESCRIPTION:Pierwsze lata życia spędziłem w mieszkaniu dziadków. Wspomnienia z tego okresu zlewają dom\, jego mieszkańców\, zdarzenia i przedmioty w jedność. Gdy po śmierci dziadka\, babcia się wyprowadziła\, przedmioty – zbierane i narosłe przez dekady – pozostały. W swym nagromadzeniu zaczęły tworzyć pola pamięci\, mimo że każda z tych rzeczy osobno wydawała się bez znaczenia. Badając przedmioty z mojego dzieciństwa znajdujące się w mieszkaniu babci\, rozłożyłem moje wspomnienia od kolorowego bałaganu dziecięcych wrażeń do śladów po rzeczach. Korzystając z precyzji zapisu fotografii cyfrowej\, skonstruowałem każdy obraz z wielu ekspozycji\, aby stworzyć jak najdokładniejszy zapis przedmiotu na każdym etapie klasyfikacji. Jednak w ramach tej antynostalgicznej\, niemal pseudonaukowej próby zbadania materialności pamięci pojawił ruch przeciwny – pragnienie samych\nprzedmiotów\, aby zostać zauważonymi. Zapomniane\, niepotrzebne rzeczy znalazły nowe życie dzięki wizualnej reprezentacji: od chaosu i nadmiaru danych meblościanki\, poprzez dziecięcy eksces kolorów\, dojrzałą\, produktową klarowność\, aż po ostatni etap – pył powstały po starciu przedmiotu\, pozostałość\, która staje się zarówno reinterpretacją\, jak i upamiętnieniem. Oficjalna prezentacja wystawy w ramach Przeglądu będzie miała charakter performatywnego pogrzebu przedmiotów dzieciństwa. Zaleca się ubiór adekwatny do okoliczności. \nZapraszamy do zwiedzania od wtorku 10.02 do końca festiwalu w godzinach 17.00-19.00\, z wyjątkiem niedzieli 15.02 kiedy w galerii odbędzie się „śródnisaż” o 19.00\, czyli wernisaż w środku trwania wystawy. PO zakończeniu festiwalu wystawa będzie otwarta do 22.02.
URL:https://mlodafotografia.pl/wydarzenie/wystawa-zdjec-rafala-skwarka-memory-unit/
LOCATION:Galeria u Kosałki\, Ruska 46\, Wrocław
CATEGORIES:Dzień 2: wtorek
ORGANIZER;CN="Wroc%C5%82awska Lo%C5%BCa Fotograficzna":MAILTO:wroclawskalozafoto@gmail.com
END:VEVENT
BEGIN:VEVENT
DTSTART;TZID=Europe/Warsaw:20260210T190000
DTEND;TZID=Europe/Warsaw:20260210T203000
DTSTAMP:20260422T134451
CREATED:20251110T180017Z
LAST-MODIFIED:20260115T203619Z
UID:4611-1770750000-1770755400@mlodafotografia.pl
SUMMARY:Wernisaż młodych artystów wyróżnionych w konkursie
DESCRIPTION:Przez całą jesień młodzi fotografowie przysyłali prace na konkurs Przeglądu Młodej Fotografii. Najlepszych spośród nich wybrała Rada Artystyczna Przeglądu w składzie dr Michał Pietrzak (przewodniczący)\, Agata Grzych\, Agnieszka Błaszczyszyn\, Anna Nowak\, Marcin Wiktorski. Główną nagrodą jest indywidualna wystawa w Galerii Vivid (wernisaż w czwartek). Wyróżnione osoby oprowadzą po swojej zbiorowej wystawie we wtorkowy wieczór 10 lutego o 19.00 w Centrum na Przedmieściu. Zapraszamy! \n 
URL:https://mlodafotografia.pl/wydarzenie/wernisaz-mlodych-artystow-wyroznionych-w-konkursie/
LOCATION:Centrum na Przedmieściu\, ul. Prądzyńskiego 39A\, Wrocław\, Poland
CATEGORIES:Dzień 2: wtorek
ATTACH;FMTTYPE=image/jpeg:https://mlodafotografia.pl/wp-content/uploads/sites/11/2025/11/d2fb114e-390f-46ba-802b-0da73407f9ab.jpeg
ORGANIZER;CN="Wroc%C5%82awska Lo%C5%BCa Fotograficzna":MAILTO:wroclawskalozafoto@gmail.com
END:VEVENT
BEGIN:VEVENT
DTSTART;TZID=Europe/Warsaw:20260210T203000
DTEND;TZID=Europe/Warsaw:20260210T233000
DTSTAMP:20260422T134451
CREATED:20251212T172659Z
LAST-MODIFIED:20260209T134240Z
UID:4849-1770755400-1770766200@mlodafotografia.pl
SUMMARY:Piwo w Szklarni
DESCRIPTION:Po emocjach festiwalowego dnia spotkajmy się w pubie Szklarnia na odrobinę relaksu. Przy okazji można obejrzeć dwie wystawy: w małej sali przez cały czas trwania festiwalu wisi zbiorowa wystawa pięciu fotografek: Darii Chadryś\, Kai Gomez-Cabrero\, Magdy Cydzik\, Izy Romanik i Kamili Jantos „Kadry nieistniejącego filmu”. Dziewczyny wymyślały film\, którego nie ma\, po czym tworzyłt do niego plakat i fotosy. Oglądanie obowiązkowe! \nW dużej sali Szklarni zobaczycie wystawę Pawła Krzywonia-Majewskiego „Kapłanki bóstw niewiadomych” będącej opowieścią o dawnych kultach i potędze kobiet. Po prostu musicie zajrzeć. \nNo i oczywiście rozmowy\, spotkania\, nawiązywanie relacji\, zapraszamy!
URL:https://mlodafotografia.pl/wydarzenie/piwo-w-szklarni-2/
LOCATION:Pub „Szklarnia”\, ul. Ofiar Oświęcimskich 19\, Wrocław\, Poland
CATEGORIES:Dzień 2: wtorek
ATTACH;FMTTYPE=image/png:https://mlodafotografia.pl/wp-content/uploads/sites/11/2024/12/szklarnia.png
ORGANIZER;CN="Wroc%C5%82awska Lo%C5%BCa Fotograficzna":MAILTO:wroclawskalozafoto@gmail.com
END:VEVENT
END:VCALENDAR