BEGIN:VCALENDAR
VERSION:2.0
PRODID:-//Młoda Fotografia 2026 - ECPv6.7.0//NONSGML v1.0//EN
CALSCALE:GREGORIAN
METHOD:PUBLISH
X-WR-CALNAME:Młoda Fotografia 2026
X-ORIGINAL-URL:https://mlodafotografia.pl
X-WR-CALDESC:Events for Młoda Fotografia 2026
REFRESH-INTERVAL;VALUE=DURATION:PT1H
X-Robots-Tag:noindex
X-PUBLISHED-TTL:PT1H
BEGIN:VTIMEZONE
TZID:Europe/Warsaw
BEGIN:DAYLIGHT
TZOFFSETFROM:+0100
TZOFFSETTO:+0200
TZNAME:CEST
DTSTART:20260329T010000
END:DAYLIGHT
BEGIN:STANDARD
TZOFFSETFROM:+0200
TZOFFSETTO:+0100
TZNAME:CET
DTSTART:20261025T010000
END:STANDARD
END:VTIMEZONE
BEGIN:VEVENT
DTSTART;TZID=Europe/Warsaw:20260211T160000
DTEND;TZID=Europe/Warsaw:20260211T180000
DTSTAMP:20260422T120508
CREATED:20260119T170703Z
LAST-MODIFIED:20260205T135459Z
UID:5114-1770825600-1770832800@mlodafotografia.pl
SUMMARY:Wystawa zdjęć Pawła Piaskiewicza i Anny Herman „Arabeski: fantazje form ukrytych”
DESCRIPTION:Jest to zaproszenie do tajemniczego świata\, w którym tytułowe arabeski są nie tylko dekoracyjnym wzorem\, ale i formą narracyjną – nieskończoną figurą\, która zamiast się domykać\, rozrasta się na marginesie rzeczywistości. To sposób patrzenia na świat jako nieskończony\, rozgałęziający się wzór\, w którym nieustannie przenika się to\, co materialne\, psychiczne\, duchowe i wyobrażone. Nie mamy tu do czynienia z linearną narracją\, czy logicznym porządkiem\, lecz z ruchem\, zawieszeniem i migotaniem\, w którym człowiek nie jest głównym bohaterem\, a jedynie elementem uwikłanym w rzeczywistość zdominowaną przez zmysłowy nadmiar.\nPowstała ekspozycja jest efektem dialogu dwojga artystów – malarki Anny Herman i fotografa Pawła Piaskiewicza\, którzy potraktowali roślinne wzory jak labirynt\, rodzaj pięknego chaosu i teatr form. Wydobywając zastygłe na chwilę kształt i struktury efemeryczną\, wspólnie tworzą zawieszoną w półśnie narrację. Zarówno każda praca z osobna\, jak i całość ekspozycyjna to wizualna arabeska – opowieść bez początku i końca – w której każdy detal może prowadzić do innej\, często intymnej przestrzeni duszy. \nAnna Herman – Malarka i ilustratorka. Absolwentka Wydziału Malarstwa Akademii Sztuk Pięknych we Wrocławiu. Specjalizuje się w autorskiej technice mieszanej\, tworząc obrazy na płótnie i papierze. Uczestniczyła w kilkudziesięciu wystawach malarskich i ilustracyjnych w kraju i za granicą. Laureatka JIA Illustration Award (2019\, Japonia)\, finalistka m.in. Hiii Illustration Competition (2021\, Chiny) oraz London International Creative Competition (2024\, Wielka Brytania). W swojej twórczości często odwołuje się do literatury – szczególnie do poetyckiej\, onirycznej i surrealistycznej prozy – eksplorując tematy kobiecości\, mitów\, baśni i natury.\nWWW: annaherman.art\nIG: anna.herman.art \nPaweł Piaskiewicz – Rocznik ‘91\, fotografuje od 18 lat. Absolwent kursów Dwa Bieguny Fotografii\, zajmuje się głównie fotografią portretową oraz inscenizowaną. Ma na swoim koncie wystawy indywidualne (“Malizm”\, “Madonny”\, “Anonimy”\, “ANO/MONO”) oraz uczestnictwo w wystawach zbiorowych i festiwalach (“Podwodny Wrocław”\, “Noc Muzeów”\, „Wrocławskie Święto Fotografii”). Zdobywca II miejsca na Fine Art Photography Awards 2024 w kategorii „Fotografia konceptualna”. W swoich zdjęciach kładzie nacisk na kompozycję i kolor\, w projektach – na proste historie.\nWWW: piaskiewicz.photo\nIG: piahov \nWystawa będzie otwarta w Galerii OKO: poniedziałek 9.02 (godz. 19.00 wernisaż)\, środa 16-18\,  piątek 16-18 i sobota 16-18.
URL:https://mlodafotografia.pl/wydarzenie/wystawa-zdjec-pawla-piaskiewicza-i-anny-herman-arabeski-fantazje-form-ukrytych-2/
LOCATION:Galeria OKO\, św. Mikołaja 54/55\, Wroclaw
CATEGORIES:Dzień 3: środa
ORGANIZER;CN="Wroc%C5%82awska Lo%C5%BCa Fotograficzna":MAILTO:wroclawskalozafoto@gmail.com
END:VEVENT
BEGIN:VEVENT
DTSTART;TZID=Europe/Warsaw:20260211T160000
DTEND;TZID=Europe/Warsaw:20260211T190000
DTSTAMP:20260422T120508
CREATED:20251111T150040Z
LAST-MODIFIED:20260107T122842Z
UID:4777-1770825600-1770836400@mlodafotografia.pl
SUMMARY:Pokazowa sesja fotograficzna
DESCRIPTION:Zapraszamy na wyjątkową sesję pokazową prowadzoną przez Łukasza Spychałę – uznanego autora fotografii Fine Art\, kinematograficznej\, konceptualnej i narracyjnej. Łukasz jest laureatem licznych nagród i autorem wystaw w Polsce i za granicą. Jego prace były prezentowane m.in. w Budapeszcie\, Londynie\, Mediolanie\, Nowym Jorku i Paryżu. Podczas spotkania Łukasz pokaże\, jak krok po kroku powstają jego charakterystyczne\, filmowe kadry i zaprezentuje swój proces artystyczny. Z autorskim komentarzem omówi decyzje kompozycyjne\, oświetleniowe i scenograficzne\, prowadząc uczestników przez cały proces twórczy – od pomysłu aż do finalnego obrazu. To nie wszystko! Uczestnicy wezmą udział w sesji jako ubrani na czarno statyści i staną po drugiej stronie obiektywu\, współtworząc filmowe sceny. Dzięki temu uczestnik może zobaczyć z samego centrum wydarzeń\, jak naprawdę Łukasz pracuje na planie\, obserwując każdy etap i zyskując realne doświadczenie oraz praktyczną wiedzę. To rzadka okazja\, by zobaczyć fotografię od środka i doświadczyć procesu\, który zazwyczaj pozostaje ukryty za gotowym obrazem. \n\n\n\n\n\n\n\n\n\n\n\n\n Wymagany czarny ubiór (spójny z estetyką tworzonych kadrów). Jeśli to niemożliwe to prośba o ubiór złożony z jednolitych (bez wzorów i napisów) ubrań o stonowanych kolorach.\n\n\n\n\n\n\n\n\n\n\n\n\nLiczba miejsc ograniczona. Formularz zapisów: https://forms.gle/DQVKkaNKy6qhjU848
URL:https://mlodafotografia.pl/wydarzenie/pokazowa-sesja-fotograficzna-lukasz-spychaly/
LOCATION:Centrum na Przedmieściu\, ul. Prądzyńskiego 39A\, Wrocław\, Poland
CATEGORIES:Dzień 3: środa
ATTACH;FMTTYPE=image/jpeg:https://mlodafotografia.pl/wp-content/uploads/sites/11/2025/12/lukasz-spychala.jpg
ORGANIZER;CN="Wroc%C5%82awska Lo%C5%BCa Fotograficzna":MAILTO:wroclawskalozafoto@gmail.com
END:VEVENT
BEGIN:VEVENT
DTSTART;TZID=Europe/Warsaw:20260211T163000
DTEND;TZID=Europe/Warsaw:20260211T183000
DTSTAMP:20260422T120508
CREATED:20251111T153026Z
LAST-MODIFIED:20251212T184247Z
UID:4705-1770827400-1770834600@mlodafotografia.pl
SUMMARY:Przyjazne konsultacje fotograficzne
DESCRIPTION:Przez cały tydzień\, codziennie od 16.30 do 18.30 (z wyjątkiem czwartku\, kiedy spotkanie jest od 16.00 do 18.00) zapraszamy na przyjazne konsultacje fotograficzne\, kiedyś nazywane przeglądem portfolio. Nie trzeba mieć „portfolio” żeby wziąć udział! Jeśli robisz zdjęcia i brakuje Ci feedbacku\, przyjdź do Centrum na Przedmieściu podczas festiwalowego tygodnia i pokaż nam swoje zdjęcia- przynieś wydruki\, najlepiej podzielone na cykle lub pliki na laptopie (nie przynoś na telefonie!). Codziennie inni fotografowie z dużym doświadczeniem będą udzielać porad\, pomagać w wyborze kierunku i podpowiadać rozwiązania. \nW środę pomagać będą wam Kamila Jantos i Adam Drozdek. Nie ma zapisów\, po prostu przyjdź ze zdjęciami. Możesz przyjść kilka razy do różnych osób! \nKamila Jantos – fotografka analogowa\, która swoją przygodę rozpoczęła po drugiej stronie obiektywu. Tworzy pod pseudonimem Valkrah. Jej głównymi zainteresowaniami jest fotografia artystyczna i kreacyjna. Uwielbia zabawy perspektywą oraz konwencją\, bajki\, symbole\, motywy\, opowieści. Ważna jest dla niej nie tylko treść\, ale też odpowiednia konstrukcja obrazu\, wrażenie jakie wywiera. Wierzy\, że sztuka to forma dialogu między twórcą a odbiorcą\, a jej kluczowym zadaniem jest wzbudzenie emocji. Podyskutujesz z nią o filozofii twórczości\, kompozycji czy narracji w obrazie. \nAdam Drozdek – związany z fotografią od dzieciństwa. Obecnie członek SpAFu\, eksperymentalista. Choć najpewniej czuje się i spełnia w mrocznych kadrach\, podejmuje się wielu dziedzin fotografii – od studyjnej\, przez architekturę po fotoreportaże. Entuzjasta opuszczonych miejsc. Od niedawna zajmuje się także fotografią analogową. \n 
URL:https://mlodafotografia.pl/wydarzenie/przyjazne-konsultacje-fotograficzne-3/
LOCATION:Centrum na Przedmieściu\, ul. Prądzyńskiego 39A\, Wrocław\, Poland
CATEGORIES:Dzień 3: środa
ATTACH;FMTTYPE=image/jpeg:https://mlodafotografia.pl/wp-content/uploads/sites/11/2025/12/c05af9c6-8d92-4196-907b-28d38059435e.jpeg
ORGANIZER;CN="Wroc%C5%82awska Lo%C5%BCa Fotograficzna":MAILTO:wroclawskalozafoto@gmail.com
END:VEVENT
BEGIN:VEVENT
DTSTART;TZID=Europe/Warsaw:20260211T170000
DTEND;TZID=Europe/Warsaw:20260211T190000
DTSTAMP:20260422T120508
CREATED:20260119T171523Z
LAST-MODIFIED:20260119T172023Z
UID:5124-1770829200-1770836400@mlodafotografia.pl
SUMMARY:Wystawa zdjęć Rafała Skwarka „Memory Unit”
DESCRIPTION:Pierwsze lata życia spędziłem w mieszkaniu dziadków. Wspomnienia z tego okresu zlewają dom\, jego mieszkańców\, zdarzenia i przedmioty w jedność. Gdy po śmierci dziadka\, babcia się wyprowadziła\, przedmioty – zbierane i narosłe przez dekady – pozostały. W swym nagromadzeniu zaczęły tworzyć pola pamięci\, mimo że każda z tych rzeczy osobno wydawała się bez znaczenia. Badając przedmioty z mojego dzieciństwa znajdujące się w mieszkaniu babci\, rozłożyłem moje wspomnienia od kolorowego bałaganu dziecięcych wrażeń do śladów po rzeczach. Korzystając z precyzji zapisu fotografii cyfrowej\, skonstruowałem każdy obraz z wielu ekspozycji\, aby stworzyć jak najdokładniejszy zapis przedmiotu na każdym etapie klasyfikacji. Jednak w ramach tej antynostalgicznej\, niemal pseudonaukowej próby zbadania materialności pamięci pojawił ruch przeciwny – pragnienie samych\nprzedmiotów\, aby zostać zauważonymi. Zapomniane\, niepotrzebne rzeczy znalazły nowe życie dzięki wizualnej reprezentacji: od chaosu i nadmiaru danych meblościanki\, poprzez dziecięcy eksces kolorów\, dojrzałą\, produktową klarowność\, aż po ostatni etap – pył powstały po starciu przedmiotu\, pozostałość\, która staje się zarówno reinterpretacją\, jak i upamiętnieniem. Oficjalna prezentacja wystawy w ramach Przeglądu będzie miała charakter performatywnego pogrzebu przedmiotów dzieciństwa. Zaleca się ubiór adekwatny do okoliczności. \nZapraszamy do zwiedzania od wtorku 10.02 do końca festiwalu w godzinach 17.00-19.00\, z wyjątkiem niedzieli 15.02 kiedy w galerii odbędzie się „śródnisaż” o 19.00\, czyli wernisaż w środku trwania wystawy. PO zakończeniu festiwalu wystawa będzie otwarta do 22.02.
URL:https://mlodafotografia.pl/wydarzenie/wystawa-zdjec-rafala-skwarka-memory-unit-2/
LOCATION:Galeria u Kosałki\, Ruska 46\, Wrocław
CATEGORIES:Dzień 3: środa
ORGANIZER;CN="Wroc%C5%82awska Lo%C5%BCa Fotograficzna":MAILTO:wroclawskalozafoto@gmail.com
END:VEVENT
BEGIN:VEVENT
DTSTART;TZID=Europe/Warsaw:20260211T190000
DTEND;TZID=Europe/Warsaw:20260211T203000
DTSTAMP:20260422T120508
CREATED:20251111T180032Z
LAST-MODIFIED:20251216T185305Z
UID:4781-1770836400-1770841800@mlodafotografia.pl
SUMMARY:Wieczór autorski
DESCRIPTION:Festiwalowe spotkanie z Gościem Loży – Łukaszem Montygierd-Łoybą\, wrocławskim fotografem zafascynowanym technikami szlachetnymi\, wykładowcą związanym z niepubliczną Wrocławską Szkołą Fotografii działającą w bud. NOT przy ul. Piłsudskiego. \nŁukasz o sobie: Techniki analogowe\, fotografia studyjna i artystyczna. Równowaga serca\, umysłu i oka daje idealny kadr. Równowaga twórcy i tworzywa to najprostszy sposób na nieśmiertelność. Fotografia to nie tylko technicznie poprawne skonstruowanie obrazka. To przede wszystkim zaklęte w kryształach srebra emocje.
URL:https://mlodafotografia.pl/wydarzenie/wieczor-autorski/
LOCATION:Centrum na Przedmieściu\, ul. Prądzyńskiego 39A\, Wrocław\, Poland
CATEGORIES:Dzień 3: środa
ATTACH;FMTTYPE=image/jpeg:https://mlodafotografia.pl/wp-content/uploads/sites/11/2025/11/WSF.jpg
ORGANIZER;CN="Wroc%C5%82awska Lo%C5%BCa Fotograficzna":MAILTO:wroclawskalozafoto@gmail.com
END:VEVENT
BEGIN:VEVENT
DTSTART;TZID=Europe/Warsaw:20260211T203000
DTEND;TZID=Europe/Warsaw:20260211T233000
DTSTAMP:20260422T120508
CREATED:20251212T174847Z
LAST-MODIFIED:20260209T134207Z
UID:4860-1770841800-1770852600@mlodafotografia.pl
SUMMARY:Piwo w Szklarni
DESCRIPTION:Po emocjach festiwalowego dnia spotkajmy się w pubie Szklarnia na odrobinę relaksu. Przy okazji można obejrzeć dwie wystawy: w małej sali przez cały czas trwania festiwalu wisi zbiorowa wystawa pięciu fotografek: Darii Chadryś\, Kai Gomez-Cabrero\, Magdy Cydzik\, Izy Romanik i Kamili Jantos „Kadry nieistniejącego filmu”. Dziewczyny wymyślały film\, którego nie ma\, po czym tworzyłt do niego plakat i fotosy. Oglądanie obowiązkowe! \nW dużej sali Szklarni zobaczycie wystawę Pawła Krzywonia-Majewskiego „Kapłanki bóstw niewiadomych” będącej opowieścią o dawnych kultach i potędze kobiet. Po prostu musicie zajrzeć. \nNo i oczywiście rozmowy\, spotkania\, nawiązywanie relacji\, zapraszamy!
URL:https://mlodafotografia.pl/wydarzenie/piwo-w-szklarni-3/
LOCATION:Pub „Szklarnia”\, ul. Ofiar Oświęcimskich 19\, Wrocław\, Poland
CATEGORIES:Dzień 3: środa
ATTACH;FMTTYPE=image/png:https://mlodafotografia.pl/wp-content/uploads/sites/11/2024/12/szklarnia.png
ORGANIZER;CN="Wroc%C5%82awska Lo%C5%BCa Fotograficzna":MAILTO:wroclawskalozafoto@gmail.com
END:VEVENT
END:VCALENDAR