BEGIN:VCALENDAR
VERSION:2.0
PRODID:-//Młoda Fotografia 2026 - ECPv6.7.0//NONSGML v1.0//EN
CALSCALE:GREGORIAN
METHOD:PUBLISH
X-ORIGINAL-URL:https://mlodafotografia.pl
X-WR-CALDESC:Events for Młoda Fotografia 2026
REFRESH-INTERVAL;VALUE=DURATION:PT1H
X-Robots-Tag:noindex
X-PUBLISHED-TTL:PT1H
BEGIN:VTIMEZONE
TZID:Europe/Warsaw
BEGIN:DAYLIGHT
TZOFFSETFROM:+0100
TZOFFSETTO:+0200
TZNAME:CEST
DTSTART:20260329T010000
END:DAYLIGHT
BEGIN:STANDARD
TZOFFSETFROM:+0200
TZOFFSETTO:+0100
TZNAME:CET
DTSTART:20261025T010000
END:STANDARD
END:VTIMEZONE
BEGIN:VEVENT
DTSTART;TZID=Europe/Warsaw:20260215T120000
DTEND;TZID=Europe/Warsaw:20260215T150000
DTSTAMP:20260422T121542
CREATED:20251115T110037Z
LAST-MODIFIED:20260106T115358Z
UID:4806-1771156800-1771167600@mlodafotografia.pl
SUMMARY:Tethering dla Początkujących Fotografów
DESCRIPTION:Znowu nie ma mi kto zrobić zdjęcia!\nZnowu nie ustawiłem się dobrze do samowyzwalacza!\nSamowyzwalacz znowu zgubił ostrość!\nMoje ręce mają o metr za mało długości\, żeby perspektywa tego zdjęcia miała sens!\nNie mogę tu stać\, będzie mnie widać w kadrze! \nNa te i inne problemy współczesnego pasjonata fotografii jest na szczęście prosta\, oparta o codzienne urządzenia łączności odpowiedź. Tethering – łączenie aparatu z innym urządzeniem\, które pozwala zdalnie – i z podglądem w czasie rzeczywistym – fotografować siebie i innych. Na warsztatach zaprezentowana zostanie zarówno techniczna strona połączenia i użycia odpowiedniego oprogramowania\, jak i kilka najczęściej wymagających zastosowania tetheringu zastosowań kreatywnych. \nLiczba miejsc ograniczona. Formularz zapisów: https://forms.gle/DQVKkaNKy6qhjU848 \n 
URL:https://mlodafotografia.pl/wydarzenie/tethering-dla-poczatkujacych-fotografow/
LOCATION:Centrum na Przedmieściu\, ul. Prądzyńskiego 39A\, Wrocław\, Poland
CATEGORIES:Dzień 7: niedziela
ATTACH;FMTTYPE=image/jpeg:https://mlodafotografia.pl/wp-content/uploads/sites/11/2025/12/Pawel-krzywon-majewski.jpg
ORGANIZER;CN="Wroc%C5%82awska Lo%C5%BCa Fotograficzna":MAILTO:wroclawskalozafoto@gmail.com
END:VEVENT
BEGIN:VEVENT
DTSTART;TZID=Europe/Warsaw:20260215T130000
DTEND;TZID=Europe/Warsaw:20260215T183000
DTSTAMP:20260422T121542
CREATED:20251115T120013Z
LAST-MODIFIED:20260112T130805Z
UID:4810-1771160400-1771180200@mlodafotografia.pl
SUMMARY:Początki pracy w ciemni
DESCRIPTION:Warsztaty fotograficzne dla każdego kto chciałby poczuć analogową fotografię i zagłębić się w tajniki zaczynając od jej podstaw. Zaczniemy o 13.00 od zrobienia zdjęć aparatem analogowym w okolicy Centrum na Przedmieściu\, pod czujnym okiem Gregora Stadnika\, który pomoże z technicznymi sprawami. O 15.00 Kuba Łakomy oprowadzi was po ciemni i wyjaśni przeznaczenie poszczególnych jej elementów. Uczestnicy będą pod okiem prowadzącego krok po kroku samodzielnie podążać przez proces wywołania filmu i wykonania odbitek na papierze. \nNa warsztaty należy przynieść własny aparat analogowy\, film będzie do kupienia na miejscu. W przypadku braku aparatu będzie możliwość wypożyczenia go na miejscu.\nKoszt uczestnictwa: 30 zł – pokrywa koszty materiałów. Prosze przynieść gotówkę. \nLiczba miejsc ograniczona. Formularz zapisów: https://forms.gle/DQVKkaNKy6qhjU848
URL:https://mlodafotografia.pl/wydarzenie/poczatki-pracy-w-ciemni-kuba-lakomy/
LOCATION:Centrum na Przedmieściu\, ul. Prądzyńskiego 39A\, Wrocław\, Poland
CATEGORIES:Dzień 7: niedziela
ATTACH;FMTTYPE=image/jpeg:https://mlodafotografia.pl/wp-content/uploads/sites/11/2024/11/Kuba-lakomy.jpg
ORGANIZER;CN="Wroc%C5%82awska Lo%C5%BCa Fotograficzna":MAILTO:wroclawskalozafoto@gmail.com
END:VEVENT
BEGIN:VEVENT
DTSTART;TZID=Europe/Warsaw:20260215T163000
DTEND;TZID=Europe/Warsaw:20260215T183000
DTSTAMP:20260422T121542
CREATED:20251115T153010Z
LAST-MODIFIED:20251212T184433Z
UID:4720-1771173000-1771180200@mlodafotografia.pl
SUMMARY:Przyjazne konsultacje fotograficzne
DESCRIPTION:Przez cały tydzień\, codziennie od 16.30 do 18.30 (z wyjątkiem czwartku\, kiedy spotkanie jest od 16.00 do 18.00) zapraszamy na przyjazne konsultacje fotograficzne\, kiedyś nazywane przeglądem portfolio. Nie trzeba mieć „portfolio” żeby wziąć udział! Jeśli robisz zdjęcia i brakuje Ci feedbacku\, przyjdź do Centrum na Przedmieściu podczas festiwalowego tygodnia i pokaż nam swoje zdjęcia- przynieś wydruki\, najlepiej podzielone na cykle lub pliki na laptopie (nie przynoś na telefonie!). Codziennie inni fotografowie z dużym doświadczeniem będą udzielać porad\, pomagać w wyborze kierunku i podpowiadać rozwiązania. \nW niedzielę pomagać będą wam Halina Marduła i Jolanta Lipowczan-Stolarczyk\, Nie ma zapisów\, po prostu przyjdź ze zdjęciami. Możesz przyjść kilka razy do różnych osób! \nHalina Marduła – urodziła się we Wrocławiu\, gdzie obecnie mieszka i pracuje. Absolwentka Wyższej Szkoły Sztuki i Projektowania w Łodzi oraz Akademii Sztuk Pięknych im. E. Gepperta we Wrocławiu. Uczestniczka prezentacji zbiorowych w kraju i za granicą\, a także autorka wystaw indywidualnych. Prowadzi działania związane z edukacją i promocją artystyczną\, współpracuje m.in. z Galerią Sztuki Mediów ASP – KINO oraz Autorskim Laboratorium Fotografii ALF we Wrocławiu. Członkini Związku Polskich Artystów Fotografików.\nW fotografii interesuje ją tak aspekt dokumentalny jak i kreacyjny. Głównym obszarem jej zainteresowań twórczych jest natura rzeczywistości\, zarówno w aspekcie subiektywnym\, jak i obiektywnym. Za pomocą fotografii stara się opisać ich wzajemny wpływ\, relacje pomiędzy światem wewnętrznym a zewnętrznym. Podejmuje wątki związane z widzialnym i niewidzialnym wymiarem rzeczywistości\, takim jak: czas\, pamięć\, cielesność\, psychika\, świadomość\, wyobraźnia\, a także sztuczna inteligencja. Niekiedy sięga po środki bliższe dokumentacji\, innym razem posługuje się kreacją\, tworząc alternatywną rzeczywistość pojęć i metafor.\n(www.halinamardula.pl) \nJolanta Lipowczan-Stolarczyk jest studentką Instytutu Twórczej Fotografii na Uniwersytecie Śląskim w Opawie\, ukończyła kurs fotografii w Ośrodku Postaw Twórczych\, uczyła się we Wrocławskiej Szkole Fotografii\, należy do Autorskiego Laboratorium Fotografii profesora Piotra Komorowskiego. Jej prace znalazły się na wystawach zbiorowych m.in. “Wizje” w Domu Kultury Chwałowice\, Pierwszym Wrocławskim Przeglądzie Fotografii Amatorskiej\, wystawie “Lęk”\, “Czas”\, “Przestrzeń” ALF\, wystawie w Poleczki Art w Warszawie\, wystawach w Opavie\, Bratysławie\, Bielsku – Białej. Prace z cyklu „EGO” wyróżniono na FotoArtFestiwalu w Bielsku – Białej\, dzięki slide show “94 and any other number” otrzymała propozycję indywidualnej wystawy w galerii B&B w Bielsku-Białej. Bliskie jej są tematy związane ze światem przyrody\, jego ochroną oraz miejscem człowieka w tym świecie. Interesuje ją również psychika człowieka\, jego problemy oraz sposoby radzenia sobie z nimi. Ważnym aspektem jej działań jest dostępność sztuki dla osób wykluczonych ze względu na niepełnosprawności. https://www.instagram.com/jola.l.s/
URL:https://mlodafotografia.pl/wydarzenie/przyjazne-konsultacje-fotograficzne-7/
LOCATION:Centrum na Przedmieściu\, ul. Prądzyńskiego 39A\, Wrocław\, Poland
CATEGORIES:Dzień 7: niedziela
ATTACH;FMTTYPE=image/jpeg:https://mlodafotografia.pl/wp-content/uploads/sites/11/2025/12/55e6e4bd-2b4a-482d-a192-2634ddc5326d.jpeg
ORGANIZER;CN="Wroc%C5%82awska Lo%C5%BCa Fotograficzna":MAILTO:wroclawskalozafoto@gmail.com
END:VEVENT
BEGIN:VEVENT
DTSTART;TZID=Europe/Warsaw:20260215T190000
DTEND;TZID=Europe/Warsaw:20260215T203000
DTSTAMP:20260422T121542
CREATED:20251115T180034Z
LAST-MODIFIED:20260119T163857Z
UID:4736-1771182000-1771187400@mlodafotografia.pl
SUMMARY:Wernisaż wystawy Rafała Skwarka "Memory Unit"
DESCRIPTION:Pierwsze lata życia spędziłem w mieszkaniu dziadków. Wspomnienia z tego okresu zlewają dom\, jego mieszkańców\, zdarzenia i przedmioty w jedność. Gdy po śmierci dziadka\, babcia się wyprowadziła\, przedmioty – zbierane i narosłe przez dekady – pozostały. W swym nagromadzeniu zaczęły tworzyć pola pamięci\, mimo że każda z tych rzeczy osobno wydawała się bez znaczenia. Badając przedmioty z mojego dzieciństwa znajdujące się w mieszkaniu babci\, rozłożyłem moje wspomnienia od kolorowego bałaganu dziecięcych wrażeń do śladów po rzeczach. Korzystając z precyzji zapisu fotografii cyfrowej\, skonstruowałem każdy obraz z wielu ekspozycji\, aby stworzyć jak najdokładniejszy zapis przedmiotu na każdym etapie klasyfikacji. Jednak w ramach tej antynostalgicznej\, niemal pseudonaukowej próby zbadania materialności pamięci pojawił ruch przeciwny – pragnienie samych\nprzedmiotów\, aby zostać zauważonymi. Zapomniane\, niepotrzebne rzeczy znalazły nowe życie dzięki wizualnej reprezentacji: od chaosu i nadmiaru danych meblościanki\, poprzez dziecięcy eksces kolorów\, dojrzałą\, produktową klarowność\, aż po ostatni etap – pył powstały po starciu przedmiotu\, pozostałość\, która staje się zarówno reinterpretacją\, jak i upamiętnieniem. Oficjalna prezentacja wystawy w ramach Przeglądu będzie miała charakter performatywnego pogrzebu przedmiotów dzieciństwa. Zaleca się ubiór adekwatny do okoliczności. \nZapraszamy do zwiedzania od wtorku 10.02 do końca festiwalu w godzinach 17.00-19.00\, z wyjątkiem niedzieli 15.02 kiedy w galerii odbędzie się „śródnisaż” o 19.00\, czyli wernisaż w środku trwania wystawy. PO zakończeniu festiwalu wystawa będzie otwarta do 22.02.
URL:https://mlodafotografia.pl/wydarzenie/wernisaz-wystawy-rafala-skwarka/
LOCATION:Galeria u Kosałki\, Ruska 46\, Wrocław
CATEGORIES:Dzień 7: niedziela
ATTACH;FMTTYPE=image/jpeg:https://mlodafotografia.pl/wp-content/uploads/sites/11/2025/12/u-kosalki.jpg
ORGANIZER;CN="Wroc%C5%82awska Lo%C5%BCa Fotograficzna":MAILTO:wroclawskalozafoto@gmail.com
END:VEVENT
BEGIN:VEVENT
DTSTART;TZID=Europe/Warsaw:20260215T203000
DTEND;TZID=Europe/Warsaw:20260215T233000
DTSTAMP:20260422T121542
CREATED:20251212T181010Z
LAST-MODIFIED:20260209T134027Z
UID:4875-1771187400-1771198200@mlodafotografia.pl
SUMMARY:Piwo w Szklarni
DESCRIPTION:Po emocjach festiwalowego dnia spotkajmy się w pubie Szklarnia na odrobinę relaksu. Przy okazji można obejrzeć dwie wystawy: w małej sali przez cały czas trwania festiwalu wisi zbiorowa wystawa pięciu fotografek: Darii Chadryś\, Kai Gomez-Cabrero\, Magdy Cydzik\, Izy Romanik i Kamili Jantos „Kadry nieistniejącego filmu”. Dziewczyny wymyślały film\, którego nie ma\, po czym tworzyły do niego plakat i fotosy. Oglądanie obowiązkowe! \nW dużej sali Szklarni zobaczycie wystawę Pawła Krzywonia-Majewskiego „Kapłanki bóstw niewiadomych” będącej opowieścią o dawnych kultach i potędze kobiet. Po prostu musicie zajrzeć. \nNo i oczywiście rozmowy\, spotkania\, nawiązywanie relacji\, zapraszamy!
URL:https://mlodafotografia.pl/wydarzenie/piwo-w-szklarni-7/
LOCATION:Pub „Szklarnia”\, ul. Ofiar Oświęcimskich 19\, Wrocław\, Poland
CATEGORIES:Dzień 7: niedziela
ATTACH;FMTTYPE=image/png:https://mlodafotografia.pl/wp-content/uploads/sites/11/2024/12/szklarnia.png
ORGANIZER;CN="Wroc%C5%82awska Lo%C5%BCa Fotograficzna":MAILTO:wroclawskalozafoto@gmail.com
END:VEVENT
END:VCALENDAR